BEGIN:VCALENDAR
VERSION:2.0
PRODID:-//Vineet Patni - ECPv6.0.5//NONSGML v1.0//EN
CALSCALE:GREGORIAN
METHOD:PUBLISH
X-ORIGINAL-URL:https://vineetpatni.com
X-WR-CALDESC:Events for Vineet Patni
REFRESH-INTERVAL;VALUE=DURATION:PT1H
X-Robots-Tag:noindex
X-PUBLISHED-TTL:PT1H
BEGIN:VTIMEZONE
TZID:Asia/Kolkata
BEGIN:STANDARD
TZOFFSETFROM:+0530
TZOFFSETTO:+0530
TZNAME:IST
DTSTART:20220101T000000
END:STANDARD
END:VTIMEZONE
BEGIN:VEVENT
DTSTART;TZID=Asia/Kolkata:20221213T190000
DTEND;TZID=Asia/Kolkata:20221213T203000
DTSTAMP:20260423T191558
CREATED:20221108T102858Z
LAST-MODIFIED:20221205T072846Z
UID:227-1670958000-1670963400@vineetpatni.com
SUMMARY:Let's Talk Scrum (LTS) | 13 December 2022 | 7:00 PM - 8:30 PM IST
DESCRIPTION:“Let’s Talk Scrum (LTS)” is a platform for us to discuss concepts and challenges in our Scrum journey. We GET-TOGETHER at least once every month for a short collaborative conversation on Scrum and related subjects. \n  \nRegister here to get Zoom Meeting Invite: https://us02web.zoom.us/meeting/register/tZYqc-uprzMqHNOHniUnehilQ8OFk4jFSwaO
URL:https://vineetpatni.com/event/lets-talk-scrum-lts-6-dec-2022-700-830-pm-ist/
CATEGORIES:LTS
ATTACH;FMTTYPE=image/jpeg:https://vineetpatni.com/wp-content/uploads/2022/11/new_template_new_template-1.jpg
ORGANIZER;CN="Vineet%20Patni":MAILTO:vineet@ScaleUpConsultants.com
END:VEVENT
END:VCALENDAR