BEGIN:VCALENDAR
VERSION:2.0
PRODID:-//Vineet Patni - ECPv6.0.5//NONSGML v1.0//EN
CALSCALE:GREGORIAN
METHOD:PUBLISH
X-ORIGINAL-URL:https://vineetpatni.com
X-WR-CALDESC:Events for Vineet Patni
REFRESH-INTERVAL;VALUE=DURATION:PT1H
X-Robots-Tag:noindex
X-PUBLISHED-TTL:PT1H
BEGIN:VTIMEZONE
TZID:UTC
BEGIN:STANDARD
TZOFFSETFROM:+0000
TZOFFSETTO:+0000
TZNAME:UTC
DTSTART:20230101T000000
END:STANDARD
END:VTIMEZONE
BEGIN:VEVENT
DTSTART;TZID=UTC:20230107T090000
DTEND;TZID=UTC:20230108T180000
DTSTAMP:20260423T180627
CREATED:20221210T071444Z
LAST-MODIFIED:20221210T071808Z
UID:924-1673082000-1673200800@vineetpatni.com
SUMMARY:Professional Scrum Master (PSM-I) | 7-8 Jan 2023 | Vineet Patni
DESCRIPTION:
URL:https://vineetpatni.com/event/professional-scrum-master-psm-i-7-8-jan-2023-vineet-patni/
ATTACH;FMTTYPE=image/jpeg:https://vineetpatni.com/wp-content/uploads/2022/12/A-LinkedIn-Post_19.jpg
ORGANIZER;CN="Dipti%20Gupta":MAILTO:dipti@ScaleUpConsultants.com
END:VEVENT
END:VCALENDAR