BEGIN:VCALENDAR
VERSION:2.0
PRODID:-//Vineet Patni - ECPv6.0.5//NONSGML v1.0//EN
CALSCALE:GREGORIAN
METHOD:PUBLISH
X-ORIGINAL-URL:https://vineetpatni.com
X-WR-CALDESC:Events for Vineet Patni
REFRESH-INTERVAL;VALUE=DURATION:PT1H
X-Robots-Tag:noindex
X-PUBLISHED-TTL:PT1H
BEGIN:VTIMEZONE
TZID:UTC
BEGIN:STANDARD
TZOFFSETFROM:+0000
TZOFFSETTO:+0000
TZNAME:UTC
DTSTART:20230101T000000
END:STANDARD
END:VTIMEZONE
BEGIN:VEVENT
DTSTART;TZID=UTC:20230128T090000
DTEND;TZID=UTC:20230129T180000
DTSTAMP:20260423T180626
CREATED:20221231T044607Z
LAST-MODIFIED:20221231T044708Z
UID:1404-1674896400-1675015200@vineetpatni.com
SUMMARY:Professional Scrum Master (PSM-I) | 28-29 Jan 2023 | Vineet Patni
DESCRIPTION:https://www.scaleupconsultants.com/professional-scrum-master-psm
URL:https://vineetpatni.com/event/1404/
ATTACH;FMTTYPE=image/jpeg:https://vineetpatni.com/wp-content/uploads/2022/12/A-LinkedIn-Post_3.jpg
ORGANIZER;CN="Dipti%20Gupta":MAILTO:dipti@ScaleUpConsultants.com
END:VEVENT
END:VCALENDAR