BEGIN:VCALENDAR
VERSION:2.0
PRODID:-//Vineet Patni - ECPv6.0.5//NONSGML v1.0//EN
CALSCALE:GREGORIAN
METHOD:PUBLISH
X-ORIGINAL-URL:https://vineetpatni.com
X-WR-CALDESC:Events for Vineet Patni
REFRESH-INTERVAL;VALUE=DURATION:PT1H
X-Robots-Tag:noindex
X-PUBLISHED-TTL:PT1H
BEGIN:VTIMEZONE
TZID:UTC
BEGIN:STANDARD
TZOFFSETFROM:+0000
TZOFFSETTO:+0000
TZNAME:UTC
DTSTART:20230101T000000
END:STANDARD
END:VTIMEZONE
BEGIN:VEVENT
DTSTART;TZID=UTC:20230520T090000
DTEND;TZID=UTC:20230521T173000
DTSTAMP:20260423T061803
CREATED:20230427T113332Z
LAST-MODIFIED:20230427T113332Z
UID:1561-1684573200-1684690200@vineetpatni.com
SUMMARY:Professional Scrum Master (PSM-II) | 20-21 May 2023 | Vineet Patni
DESCRIPTION:https://www.scaleupconsultants.com/professional-scrum-master-psm-II
URL:https://vineetpatni.com/event/professional-scrum-master-psm-ii-20-21-may-2023-vineet-patni/
ATTACH;FMTTYPE=image/jpeg:https://vineetpatni.com/wp-content/uploads/2023/04/A-LinkedIn-Post_11.jpg
ORGANIZER;CN="Dipti%20Gupta":MAILTO:dipti@ScaleUpConsultants.com
END:VEVENT
END:VCALENDAR