BEGIN:VCALENDAR
VERSION:2.0
PRODID:-//Vineet Patni - ECPv6.0.5//NONSGML v1.0//EN
CALSCALE:GREGORIAN
METHOD:PUBLISH
X-WR-CALNAME:Vineet Patni
X-ORIGINAL-URL:https://vineetpatni.com
X-WR-CALDESC:Events for Vineet Patni
REFRESH-INTERVAL;VALUE=DURATION:PT1H
X-Robots-Tag:noindex
X-PUBLISHED-TTL:PT1H
BEGIN:VTIMEZONE
TZID:UTC
BEGIN:STANDARD
TZOFFSETFROM:+0000
TZOFFSETTO:+0000
TZNAME:UTC
DTSTART:20230101T000000
END:STANDARD
END:VTIMEZONE
BEGIN:VEVENT
DTSTART;TZID=UTC:20230731T190000
DTEND;TZID=UTC:20230731T203000
DTSTAMP:20260423T023811
CREATED:20230810T040836Z
LAST-MODIFIED:20230810T040836Z
UID:1565-1690830000-1690835400@vineetpatni.com
SUMMARY:Let's Talk Scrum (LTS) | 31 July 2023 | Palak Dave
DESCRIPTION:https://www.meetup.com/pune-agile-professionals/events/294425346
URL:https://vineetpatni.com/event/lets-talk-scrum-lts-31-july-2023-palak-dave/
CATEGORIES:LTS
ATTACH;FMTTYPE=image/jpeg:https://vineetpatni.com/wp-content/uploads/2023/08/Palak_ScaleUp_Banner_-_LinkedIn.jpg
ORGANIZER;CN="Vineet%20Patni":MAILTO:vineet@ScaleUpConsultants.com
END:VEVENT
END:VCALENDAR