BEGIN:VCALENDAR
VERSION:2.0
PRODID:-//Vineet Patni - ECPv6.0.5//NONSGML v1.0//EN
CALSCALE:GREGORIAN
METHOD:PUBLISH
X-WR-CALNAME:Vineet Patni
X-ORIGINAL-URL:https://vineetpatni.com
X-WR-CALDESC:Events for Vineet Patni
REFRESH-INTERVAL;VALUE=DURATION:PT1H
X-Robots-Tag:noindex
X-PUBLISHED-TTL:PT1H
BEGIN:VTIMEZONE
TZID:UTC
BEGIN:STANDARD
TZOFFSETFROM:+0000
TZOFFSETTO:+0000
TZNAME:UTC
DTSTART:20230101T000000
END:STANDARD
END:VTIMEZONE
BEGIN:VEVENT
DTSTART;TZID=UTC:20230829T190000
DTEND;TZID=UTC:20230829T203000
DTSTAMP:20260423T011848
CREATED:20230810T041105Z
LAST-MODIFIED:20230908T042230Z
UID:1570-1693335600-1693341000@vineetpatni.com
SUMMARY:Let's Talk Scrum (LTS) | 29 August 2023 | Deepak Chauhan
DESCRIPTION:https://www.meetup.com/pune-agile-professionals/events/294445422/ \nSession Recording: https://youtu.be/tiUQ29hLNnY
URL:https://vineetpatni.com/event/lets-talk-scrum-lts-29-august-2023-deepak-chauhan/
CATEGORIES:LTS
ATTACH;FMTTYPE=image/jpeg:https://vineetpatni.com/wp-content/uploads/2023/08/A-LinkedIn-Post_15.jpg
END:VEVENT
END:VCALENDAR