BEGIN:VCALENDAR
VERSION:2.0
PRODID:-//Vineet Patni - ECPv6.0.5//NONSGML v1.0//EN
CALSCALE:GREGORIAN
METHOD:PUBLISH
X-WR-CALNAME:Vineet Patni
X-ORIGINAL-URL:https://vineetpatni.com
X-WR-CALDESC:Events for Vineet Patni
REFRESH-INTERVAL;VALUE=DURATION:PT1H
X-Robots-Tag:noindex
X-PUBLISHED-TTL:PT1H
BEGIN:VTIMEZONE
TZID:UTC
BEGIN:STANDARD
TZOFFSETFROM:+0000
TZOFFSETTO:+0000
TZNAME:UTC
DTSTART:20230101T000000
END:STANDARD
END:VTIMEZONE
BEGIN:VEVENT
DTSTART;TZID=UTC:20230216T190000
DTEND;TZID=UTC:20230216T203000
DTSTAMP:20260423T153746
CREATED:20221214T060409Z
LAST-MODIFIED:20221231T043610Z
UID:1204-1676574000-1676579400@vineetpatni.com
SUMMARY:Let's Talk Scrum (LTS) | 16 February 2023 | Vineet Patni
DESCRIPTION:https://www.meetup.com/pune-agile-professionals/events/290325553/
URL:https://vineetpatni.com/event/lets-talk-scrum-lts-16-february-2023-vineet-patni/
CATEGORIES:LTS
ATTACH;FMTTYPE=image/jpeg:https://vineetpatni.com/wp-content/uploads/2022/12/new_template_new_template-1.jpg
ORGANIZER;CN="Vineet%20Patni":MAILTO:vineet@ScaleUpConsultants.com
END:VEVENT
BEGIN:VEVENT
DTSTART;TZID=UTC:20230218T090000
DTEND;TZID=UTC:20230219T173000
DTSTAMP:20260423T153746
CREATED:20230201T054653Z
LAST-MODIFIED:20230201T054653Z
UID:1500-1676710800-1676827800@vineetpatni.com
SUMMARY:Professional Scrum Master (PSM-II) | 18-19 Feb 2023 | Vineet Patni
DESCRIPTION:https://www.scaleupconsultants.com/professional-scrum-master-psm-II
URL:https://vineetpatni.com/event/professional-scrum-master-psm-ii-18-19-feb-2023-vineet-patni/
ATTACH;FMTTYPE=image/jpeg:https://vineetpatni.com/wp-content/uploads/2023/02/A-LinkedIn-Post_6.jpg
ORGANIZER;CN="Vineet%20Patni":MAILTO:vineet@ScaleUpConsultants.com
END:VEVENT
END:VCALENDAR