BEGIN:VCALENDAR
VERSION:2.0
PRODID:-//Vineet Patni - ECPv6.0.5//NONSGML v1.0//EN
CALSCALE:GREGORIAN
METHOD:PUBLISH
X-ORIGINAL-URL:https://vineetpatni.com
X-WR-CALDESC:Events for Vineet Patni
REFRESH-INTERVAL;VALUE=DURATION:PT1H
X-Robots-Tag:noindex
X-PUBLISHED-TTL:PT1H
BEGIN:VTIMEZONE
TZID:UTC
BEGIN:STANDARD
TZOFFSETFROM:+0000
TZOFFSETTO:+0000
TZNAME:UTC
DTSTART:20230101T000000
END:STANDARD
END:VTIMEZONE
BEGIN:VEVENT
DTSTART;TZID=UTC:20230314T190000
DTEND;TZID=UTC:20230314T203000
DTSTAMP:20260423T142057
CREATED:20221214T060540Z
LAST-MODIFIED:20230314T150455Z
UID:1207-1678820400-1678825800@vineetpatni.com
SUMMARY:Let's Talk Scrum (LTS) | 14 March 2023
DESCRIPTION:https://www.meetup.com/pune-agile-professionals/events/290325563/
URL:https://vineetpatni.com/event/lets-talk-scrum-lts-14-march-2023-vineet-patni/
CATEGORIES:LTS
ATTACH;FMTTYPE=image/jpeg:https://vineetpatni.com/wp-content/uploads/2022/12/A-LinkedIn-Post_9-1.jpg
ORGANIZER;CN="Vineet%20Patni":MAILTO:vineet@ScaleUpConsultants.com
END:VEVENT
END:VCALENDAR