BEGIN:VCALENDAR
VERSION:2.0
PRODID:-//Vineet Patni - ECPv6.0.5//NONSGML v1.0//EN
CALSCALE:GREGORIAN
METHOD:PUBLISH
X-WR-CALNAME:Vineet Patni
X-ORIGINAL-URL:https://vineetpatni.com
X-WR-CALDESC:Events for Vineet Patni
REFRESH-INTERVAL;VALUE=DURATION:PT1H
X-Robots-Tag:noindex
X-PUBLISHED-TTL:PT1H
BEGIN:VTIMEZONE
TZID:UTC
BEGIN:STANDARD
TZOFFSETFROM:+0000
TZOFFSETTO:+0000
TZNAME:UTC
DTSTART:20230101T000000
END:STANDARD
END:VTIMEZONE
BEGIN:VEVENT
DTSTART;TZID=UTC:20230418T190000
DTEND;TZID=UTC:20230418T203000
DTSTAMP:20260423T074057
CREATED:20221214T060646Z
LAST-MODIFIED:20230331T100437Z
UID:1210-1681844400-1681849800@vineetpatni.com
SUMMARY:Power of language in coaching | 18 April 2023 | Ridhima Dua
DESCRIPTION:https://www.meetup.com/pune-agile-professionals/events/290325569/
URL:https://vineetpatni.com/event/lets-talk-scrum-lts-18-april-2023-vineet-patni/
CATEGORIES:LTS
ATTACH;FMTTYPE=image/jpeg:https://vineetpatni.com/wp-content/uploads/2022/12/WhatsApp-Image-2023-03-31-at-11.37.59-AM.jpeg
ORGANIZER;CN="Vineet%20Patni":MAILTO:vineet@ScaleUpConsultants.com
END:VEVENT
END:VCALENDAR