BEGIN:VCALENDAR
VERSION:2.0
PRODID:-//Vineet Patni - ECPv6.0.5//NONSGML v1.0//EN
CALSCALE:GREGORIAN
METHOD:PUBLISH
X-ORIGINAL-URL:https://vineetpatni.com
X-WR-CALDESC:Events for Vineet Patni
REFRESH-INTERVAL;VALUE=DURATION:PT1H
X-Robots-Tag:noindex
X-PUBLISHED-TTL:PT1H
BEGIN:VTIMEZONE
TZID:UTC
BEGIN:STANDARD
TZOFFSETFROM:+0000
TZOFFSETTO:+0000
TZNAME:UTC
DTSTART:20230101T000000
END:STANDARD
END:VTIMEZONE
BEGIN:VEVENT
DTSTART;TZID=UTC:20231017T190000
DTEND;TZID=UTC:20231017T203000
DTSTAMP:20260422T225130
CREATED:20230908T042136Z
LAST-MODIFIED:20230908T042136Z
UID:1588-1697569200-1697574600@vineetpatni.com
SUMMARY:Let's Talk Scrum (LTS) | 17 October 2023 | Vineet Patni
DESCRIPTION:https://www.meetup.com/pune-agile-professionals/events/295880335/
URL:https://vineetpatni.com/event/lets-talk-scrum-lts-17-october-2023-vineet-patni/
CATEGORIES:LTS
ATTACH;FMTTYPE=image/jpeg:https://vineetpatni.com/wp-content/uploads/2023/09/A-LinkedIn-Post_20.jpg
ORGANIZER;CN="Dipti%20Gupta":MAILTO:dipti@ScaleUpConsultants.com
END:VEVENT
END:VCALENDAR